BEGIN:VCALENDAR
VERSION:2.0
PRODID:-//wp-events-plugin.com//7.2.3.1//EN
BEGIN:VEVENT
UID:2@ebenezerchapelharwich.com
DTSTART:20251112T180000Z
DTEND:20251112T190000Z
DTSTAMP:20260422T091314Z
URL:https://ebenezerchapelharwich.com/events/yoga/
SUMMARY:Yoga with Kate
DESCRIPTION:[caption id="attachment_1384" align="alignnone" width="300"] Yo
 ga sessions with Kate. Beginners welcome... Quiet space in which to explor
 e cosmic\, meditative and physical aspects of Yoga[/caption]\n\n£10 per p
 erson\n\n&nbsp\;
END:VEVENT
BEGIN:VEVENT
UID:83@ebenezerchapelharwich.com
DTSTART:20251116T090000Z
DTEND:20251116T100000Z
DTSTAMP:20260422T091314Z
URL:https://ebenezerchapelharwich.com/events/yoga-with-kate/
SUMMARY:Yoga with Kate
DESCRIPTION:[caption id="attachment_1384" align="alignnone" width="300"] Yo
 ga sessions with Kate. Beginners welcome[/caption]\n\nRelax\, Re energize\
 , quiet surroundings in which to meditate and practice Yoga stretches\n\n
 £10 per person
END:VEVENT
BEGIN:VEVENT
UID:3@ebenezerchapelharwich.com
DTSTART:20251119T180000Z
DTEND:20251119T190000Z
DTSTAMP:20260422T091314Z
URL:https://ebenezerchapelharwich.com/events/yoga/
SUMMARY:Yoga with Kate
DESCRIPTION:[caption id="attachment_1384" align="alignnone" width="300"] Yo
 ga sessions with Kate. Beginners welcome... Quiet space in which to explor
 e cosmic\, meditative and physical aspects of Yoga[/caption]\n\n£10 per p
 erson\n\n&nbsp\;
END:VEVENT
BEGIN:VEVENT
UID:111@ebenezerchapelharwich.com
DTSTART:20251120T193000Z
DTEND:20251120T210000Z
DTSTAMP:20260422T091314Z
URL:https://ebenezerchapelharwich.com/events/hapenny-pier-orchestra-nye-re
 hearsal/
SUMMARY:Ha'penny Pier Orchestra rehearsal
DESCRIPTION:
END:VEVENT
BEGIN:VEVENT
UID:84@ebenezerchapelharwich.com
DTSTART:20251123T090000Z
DTEND:20251123T100000Z
DTSTAMP:20260422T091314Z
URL:https://ebenezerchapelharwich.com/events/yoga-with-kate/
SUMMARY:Yoga with Kate
DESCRIPTION:[caption id="attachment_1384" align="alignnone" width="300"] Yo
 ga sessions with Kate. Beginners welcome[/caption]\n\nRelax\, Re energize\
 , quiet surroundings in which to meditate and practice Yoga stretches\n\n
 £10 per person
END:VEVENT
BEGIN:VEVENT
UID:4@ebenezerchapelharwich.com
DTSTART:20251126T180000Z
DTEND:20251126T190000Z
DTSTAMP:20260422T091314Z
URL:https://ebenezerchapelharwich.com/events/yoga/
SUMMARY:Yoga with Kate
DESCRIPTION:[caption id="attachment_1384" align="alignnone" width="300"] Yo
 ga sessions with Kate. Beginners welcome... Quiet space in which to explor
 e cosmic\, meditative and physical aspects of Yoga[/caption]\n\n£10 per p
 erson\n\n&nbsp\;
END:VEVENT
BEGIN:VEVENT
UID:112@ebenezerchapelharwich.com
DTSTART:20251127T193000Z
DTEND:20251127T210000Z
DTSTAMP:20260422T091314Z
URL:https://ebenezerchapelharwich.com/events/hapenny-pier-orchestra-nye-re
 hearsal/
SUMMARY:Ha'penny Pier Orchestra rehearsal
DESCRIPTION:
END:VEVENT
BEGIN:VEVENT
UID:85@ebenezerchapelharwich.com
DTSTART:20251130T090000Z
DTEND:20251130T100000Z
DTSTAMP:20260422T091314Z
URL:https://ebenezerchapelharwich.com/events/yoga-with-kate/
SUMMARY:Yoga with Kate
DESCRIPTION:[caption id="attachment_1384" align="alignnone" width="300"] Yo
 ga sessions with Kate. Beginners welcome[/caption]\n\nRelax\, Re energize\
 , quiet surroundings in which to meditate and practice Yoga stretches\n\n
 £10 per person
END:VEVENT
BEGIN:VEVENT
UID:80@ebenezerchapelharwich.com
DTSTART:20251130T120000Z
DTEND:20251130T160000Z
DTSTAMP:20251111T185614Z
URL:https://ebenezerchapelharwich.com/events/harwich-christmas-market/
SUMMARY:Harwich Christmas Market
DESCRIPTION:\nEnjoy shopping\, music and good vibes\nat the KINGS HEAD ST X
 MAS MARKET\n2025...\nThe Old Ebenezer Chapel will open with arts and craft
  stalls\,\n\nan exhibition of painting by local artists and refreshments o
 n sale\n\n&nbsp\;\n\n&nbsp\;
END:VEVENT
BEGIN:VEVENT
UID:5@ebenezerchapelharwich.com
DTSTART:20251203T180000Z
DTEND:20251203T190000Z
DTSTAMP:20260422T091314Z
URL:https://ebenezerchapelharwich.com/events/yoga/
SUMMARY:Yoga with Kate
DESCRIPTION:[caption id="attachment_1384" align="alignnone" width="300"] Yo
 ga sessions with Kate. Beginners welcome... Quiet space in which to explor
 e cosmic\, meditative and physical aspects of Yoga[/caption]\n\n£10 per p
 erson\n\n&nbsp\;
END:VEVENT
BEGIN:VEVENT
UID:113@ebenezerchapelharwich.com
DTSTART:20251204T193000Z
DTEND:20251204T210000Z
DTSTAMP:20260422T091314Z
URL:https://ebenezerchapelharwich.com/events/hapenny-pier-orchestra-nye-re
 hearsal/
SUMMARY:Ha'penny Pier Orchestra rehearsal
DESCRIPTION:
END:VEVENT
BEGIN:VEVENT
UID:86@ebenezerchapelharwich.com
DTSTART:20251207T090000Z
DTEND:20251207T100000Z
DTSTAMP:20260422T091314Z
URL:https://ebenezerchapelharwich.com/events/yoga-with-kate/
SUMMARY:Yoga with Kate
DESCRIPTION:[caption id="attachment_1384" align="alignnone" width="300"] Yo
 ga sessions with Kate. Beginners welcome[/caption]\n\nRelax\, Re energize\
 , quiet surroundings in which to meditate and practice Yoga stretches\n\n
 £10 per person
END:VEVENT
BEGIN:VEVENT
UID:6@ebenezerchapelharwich.com
DTSTART:20251210T180000Z
DTEND:20251210T190000Z
DTSTAMP:20260422T091314Z
URL:https://ebenezerchapelharwich.com/events/yoga/
SUMMARY:Yoga with Kate
DESCRIPTION:[caption id="attachment_1384" align="alignnone" width="300"] Yo
 ga sessions with Kate. Beginners welcome... Quiet space in which to explor
 e cosmic\, meditative and physical aspects of Yoga[/caption]\n\n£10 per p
 erson\n\n&nbsp\;
END:VEVENT
BEGIN:VEVENT
UID:87@ebenezerchapelharwich.com
DTSTART:20251214T090000Z
DTEND:20251214T100000Z
DTSTAMP:20260422T091314Z
URL:https://ebenezerchapelharwich.com/events/yoga-with-kate/
SUMMARY:Yoga with Kate
DESCRIPTION:[caption id="attachment_1384" align="alignnone" width="300"] Yo
 ga sessions with Kate. Beginners welcome[/caption]\n\nRelax\, Re energize\
 , quiet surroundings in which to meditate and practice Yoga stretches\n\n
 £10 per person
END:VEVENT
BEGIN:VEVENT
UID:243@ebenezerchapelharwich.com
DTSTART:20251215T193000Z
DTEND:20251215T210000Z
DTSTAMP:20260422T091314Z
URL:https://ebenezerchapelharwich.com/events/hapenny-pier-orchestra-nye-re
 hearsal/
SUMMARY:Ha'penny Pier Orchestra rehearsal
DESCRIPTION:
END:VEVENT
BEGIN:VEVENT
UID:7@ebenezerchapelharwich.com
DTSTART:20251217T180000Z
DTEND:20251217T190000Z
DTSTAMP:20260422T091314Z
URL:https://ebenezerchapelharwich.com/events/yoga/
SUMMARY:Yoga with Kate
DESCRIPTION:[caption id="attachment_1384" align="alignnone" width="300"] Yo
 ga sessions with Kate. Beginners welcome... Quiet space in which to explor
 e cosmic\, meditative and physical aspects of Yoga[/caption]\n\n£10 per p
 erson\n\n&nbsp\;
END:VEVENT
BEGIN:VEVENT
UID:88@ebenezerchapelharwich.com
DTSTART:20251221T090000Z
DTEND:20251221T100000Z
DTSTAMP:20260422T091314Z
URL:https://ebenezerchapelharwich.com/events/yoga-with-kate/
SUMMARY:Yoga with Kate
DESCRIPTION:[caption id="attachment_1384" align="alignnone" width="300"] Yo
 ga sessions with Kate. Beginners welcome[/caption]\n\nRelax\, Re energize\
 , quiet surroundings in which to meditate and practice Yoga stretches\n\n
 £10 per person
END:VEVENT
BEGIN:VEVENT
UID:81@ebenezerchapelharwich.com
DTSTART:20251221T193000Z
DTEND:20251221T211500Z
DTSTAMP:20251205T131107Z
URL:https://ebenezerchapelharwich.com/events/winter-solstice-2025/
SUMMARY:Winter Solstice 2025
DESCRIPTION:
ATTACH;FMTTYPE=image/jpeg:https://ebenezerchapelharwich.com/wp-content/upl
 oads/2025/11/winter-solstice-2025.jpg
END:VEVENT
BEGIN:VEVENT
UID:8@ebenezerchapelharwich.com
DTSTART:20251224T180000Z
DTEND:20251224T190000Z
DTSTAMP:20260422T091314Z
URL:https://ebenezerchapelharwich.com/events/yoga/
SUMMARY:Yoga with Kate
DESCRIPTION:[caption id="attachment_1384" align="alignnone" width="300"] Yo
 ga sessions with Kate. Beginners welcome... Quiet space in which to explor
 e cosmic\, meditative and physical aspects of Yoga[/caption]\n\n£10 per p
 erson\n\n&nbsp\;
END:VEVENT
BEGIN:VEVENT
UID:89@ebenezerchapelharwich.com
DTSTART:20251228T090000Z
DTEND:20251228T100000Z
DTSTAMP:20260422T091314Z
URL:https://ebenezerchapelharwich.com/events/yoga-with-kate/
SUMMARY:Yoga with Kate
DESCRIPTION:[caption id="attachment_1384" align="alignnone" width="300"] Yo
 ga sessions with Kate. Beginners welcome[/caption]\n\nRelax\, Re energize\
 , quiet surroundings in which to meditate and practice Yoga stretches\n\n
 £10 per person
END:VEVENT
BEGIN:VEVENT
UID:9@ebenezerchapelharwich.com
DTSTART:20251231T180000Z
DTEND:20251231T190000Z
DTSTAMP:20260422T091314Z
URL:https://ebenezerchapelharwich.com/events/yoga/
SUMMARY:Yoga with Kate
DESCRIPTION:[caption id="attachment_1384" align="alignnone" width="300"] Yo
 ga sessions with Kate. Beginners welcome... Quiet space in which to explor
 e cosmic\, meditative and physical aspects of Yoga[/caption]\n\n£10 per p
 erson\n\n&nbsp\;
END:VEVENT
BEGIN:VEVENT
UID:110@ebenezerchapelharwich.com
DTSTART:20251231T231500Z
DTEND:20260101T000000Z
DTSTAMP:20251225T144422Z
URL:https://ebenezerchapelharwich.com/events/new-years-eve-lv18-handels-fi
 reworks-music-performed-by-the-hapenny-pier-orchestra/
SUMMARY:NEW YEARS EVE LV18 HANDELS FIREWORKS MUSIC PERFORMED BY THE HA'PENN
 Y PIER ORCHESTRA
DESCRIPTION:
END:VEVENT
BEGIN:VEVENT
UID:90@ebenezerchapelharwich.com
DTSTART:20260104T090000Z
DTEND:20260104T100000Z
DTSTAMP:20260422T091314Z
URL:https://ebenezerchapelharwich.com/events/yoga-with-kate/
SUMMARY:Yoga with Kate
DESCRIPTION:[caption id="attachment_1384" align="alignnone" width="300"] Yo
 ga sessions with Kate. Beginners welcome[/caption]\n\nRelax\, Re energize\
 , quiet surroundings in which to meditate and practice Yoga stretches\n\n
 £10 per person
END:VEVENT
BEGIN:VEVENT
UID:245@ebenezerchapelharwich.com
DTSTART:20260106T190000Z
DTEND:20260106T210000Z
DTSTAMP:20260422T091314Z
URL:https://ebenezerchapelharwich.com/events/the-mute-swans-band-rehearsal
 /
SUMMARY:The Mute Swans Band rehearsal
DESCRIPTION:\n\nThe Mute Swans practice come rain or shine
END:VEVENT
BEGIN:VEVENT
UID:10@ebenezerchapelharwich.com
DTSTART:20260107T180000Z
DTEND:20260107T190000Z
DTSTAMP:20260422T091314Z
URL:https://ebenezerchapelharwich.com/events/yoga/
SUMMARY:Yoga with Kate
DESCRIPTION:[caption id="attachment_1384" align="alignnone" width="300"] Yo
 ga sessions with Kate. Beginners welcome... Quiet space in which to explor
 e cosmic\, meditative and physical aspects of Yoga[/caption]\n\n£10 per p
 erson\n\n&nbsp\;
END:VEVENT
BEGIN:VEVENT
UID:91@ebenezerchapelharwich.com
DTSTART:20260111T090000Z
DTEND:20260111T100000Z
DTSTAMP:20260422T091314Z
URL:https://ebenezerchapelharwich.com/events/yoga-with-kate/
SUMMARY:Yoga with Kate
DESCRIPTION:[caption id="attachment_1384" align="alignnone" width="300"] Yo
 ga sessions with Kate. Beginners welcome[/caption]\n\nRelax\, Re energize\
 , quiet surroundings in which to meditate and practice Yoga stretches\n\n
 £10 per person
END:VEVENT
BEGIN:VEVENT
UID:246@ebenezerchapelharwich.com
DTSTART:20260113T190000Z
DTEND:20260113T210000Z
DTSTAMP:20260422T091314Z
URL:https://ebenezerchapelharwich.com/events/the-mute-swans-band-rehearsal
 /
SUMMARY:The Mute Swans Band rehearsal
DESCRIPTION:\n\nThe Mute Swans practice come rain or shine
END:VEVENT
BEGIN:VEVENT
UID:11@ebenezerchapelharwich.com
DTSTART:20260114T180000Z
DTEND:20260114T190000Z
DTSTAMP:20260422T091314Z
URL:https://ebenezerchapelharwich.com/events/yoga/
SUMMARY:Yoga with Kate
DESCRIPTION:[caption id="attachment_1384" align="alignnone" width="300"] Yo
 ga sessions with Kate. Beginners welcome... Quiet space in which to explor
 e cosmic\, meditative and physical aspects of Yoga[/caption]\n\n£10 per p
 erson\n\n&nbsp\;
END:VEVENT
BEGIN:VEVENT
UID:92@ebenezerchapelharwich.com
DTSTART:20260118T090000Z
DTEND:20260118T100000Z
DTSTAMP:20260422T091314Z
URL:https://ebenezerchapelharwich.com/events/yoga-with-kate/
SUMMARY:Yoga with Kate
DESCRIPTION:[caption id="attachment_1384" align="alignnone" width="300"] Yo
 ga sessions with Kate. Beginners welcome[/caption]\n\nRelax\, Re energize\
 , quiet surroundings in which to meditate and practice Yoga stretches\n\n
 £10 per person
END:VEVENT
BEGIN:VEVENT
UID:247@ebenezerchapelharwich.com
DTSTART:20260120T190000Z
DTEND:20260120T210000Z
DTSTAMP:20260422T091314Z
URL:https://ebenezerchapelharwich.com/events/the-mute-swans-band-rehearsal
 /
SUMMARY:The Mute Swans Band rehearsal
DESCRIPTION:\n\nThe Mute Swans practice come rain or shine
END:VEVENT
BEGIN:VEVENT
UID:12@ebenezerchapelharwich.com
DTSTART:20260121T180000Z
DTEND:20260121T190000Z
DTSTAMP:20260422T091314Z
URL:https://ebenezerchapelharwich.com/events/yoga/
SUMMARY:Yoga with Kate
DESCRIPTION:[caption id="attachment_1384" align="alignnone" width="300"] Yo
 ga sessions with Kate. Beginners welcome... Quiet space in which to explor
 e cosmic\, meditative and physical aspects of Yoga[/caption]\n\n£10 per p
 erson\n\n&nbsp\;
END:VEVENT
BEGIN:VEVENT
UID:93@ebenezerchapelharwich.com
DTSTART:20260125T090000Z
DTEND:20260125T100000Z
DTSTAMP:20260422T091314Z
URL:https://ebenezerchapelharwich.com/events/yoga-with-kate/
SUMMARY:Yoga with Kate
DESCRIPTION:[caption id="attachment_1384" align="alignnone" width="300"] Yo
 ga sessions with Kate. Beginners welcome[/caption]\n\nRelax\, Re energize\
 , quiet surroundings in which to meditate and practice Yoga stretches\n\n
 £10 per person
END:VEVENT
BEGIN:VEVENT
UID:248@ebenezerchapelharwich.com
DTSTART:20260127T190000Z
DTEND:20260127T210000Z
DTSTAMP:20260422T091314Z
URL:https://ebenezerchapelharwich.com/events/the-mute-swans-band-rehearsal
 /
SUMMARY:The Mute Swans Band rehearsal
DESCRIPTION:\n\nThe Mute Swans practice come rain or shine
END:VEVENT
BEGIN:VEVENT
UID:13@ebenezerchapelharwich.com
DTSTART:20260128T180000Z
DTEND:20260128T190000Z
DTSTAMP:20260422T091314Z
URL:https://ebenezerchapelharwich.com/events/yoga/
SUMMARY:Yoga with Kate
DESCRIPTION:[caption id="attachment_1384" align="alignnone" width="300"] Yo
 ga sessions with Kate. Beginners welcome... Quiet space in which to explor
 e cosmic\, meditative and physical aspects of Yoga[/caption]\n\n£10 per p
 erson\n\n&nbsp\;
END:VEVENT
BEGIN:VEVENT
UID:94@ebenezerchapelharwich.com
DTSTART:20260201T090000Z
DTEND:20260201T100000Z
DTSTAMP:20260422T091314Z
URL:https://ebenezerchapelharwich.com/events/yoga-with-kate/
SUMMARY:Yoga with Kate
DESCRIPTION:[caption id="attachment_1384" align="alignnone" width="300"] Yo
 ga sessions with Kate. Beginners welcome[/caption]\n\nRelax\, Re energize\
 , quiet surroundings in which to meditate and practice Yoga stretches\n\n
 £10 per person
END:VEVENT
BEGIN:VEVENT
UID:259@ebenezerchapelharwich.com
DTSTART:20260201T191500Z
DTEND:20260201T211500Z
DTSTAMP:20260128T155438Z
URL:https://ebenezerchapelharwich.com/events/imbolc-first-quarter/
SUMMARY:Imbolc (First Quarter) 2026
DESCRIPTION:\n\nImbolc marks the First Quarter of the year between the Wint
 er Solstice and the Spring Equinox. It occurs in the depth of winter and s
 ignals the start of the transition to Spring. Come and enjoy this wonderfu
 l moment in the year together at the Old Ebenezer Chapel Harwich and exper
 ience the calming effects of a Sound Bath Meditation performed by Ruth and
  Jim. Refreshments afterwards. Donations welcome.
LOCATION:The Old Ebenezer Chapel Harwich\, 30 KINGS HEAD STREET\, ESSEX\, E
 ssex\, CO12 3EE\, United Kingdom
X-APPLE-STRUCTURED-LOCATION;VALUE=URI;X-ADDRESS=30 KINGS HEAD STREET\, ESSE
 X\, Essex\, CO12 3EE\, United Kingdom;X-APPLE-RADIUS=100;X-TITLE=The Old E
 benezer Chapel Harwich:geo:0,0
END:VEVENT
BEGIN:VEVENT
UID:249@ebenezerchapelharwich.com
DTSTART:20260203T190000Z
DTEND:20260203T210000Z
DTSTAMP:20260422T091314Z
URL:https://ebenezerchapelharwich.com/events/the-mute-swans-band-rehearsal
 /
SUMMARY:The Mute Swans Band rehearsal
DESCRIPTION:\n\nThe Mute Swans practice come rain or shine
END:VEVENT
BEGIN:VEVENT
UID:14@ebenezerchapelharwich.com
DTSTART:20260204T180000Z
DTEND:20260204T190000Z
DTSTAMP:20260422T091314Z
URL:https://ebenezerchapelharwich.com/events/yoga/
SUMMARY:Yoga with Kate
DESCRIPTION:[caption id="attachment_1384" align="alignnone" width="300"] Yo
 ga sessions with Kate. Beginners welcome... Quiet space in which to explor
 e cosmic\, meditative and physical aspects of Yoga[/caption]\n\n£10 per p
 erson\n\n&nbsp\;
END:VEVENT
BEGIN:VEVENT
UID:95@ebenezerchapelharwich.com
DTSTART:20260208T090000Z
DTEND:20260208T100000Z
DTSTAMP:20260422T091314Z
URL:https://ebenezerchapelharwich.com/events/yoga-with-kate/
SUMMARY:Yoga with Kate
DESCRIPTION:[caption id="attachment_1384" align="alignnone" width="300"] Yo
 ga sessions with Kate. Beginners welcome[/caption]\n\nRelax\, Re energize\
 , quiet surroundings in which to meditate and practice Yoga stretches\n\n
 £10 per person
END:VEVENT
BEGIN:VEVENT
UID:250@ebenezerchapelharwich.com
DTSTART:20260210T190000Z
DTEND:20260210T210000Z
DTSTAMP:20260422T091314Z
URL:https://ebenezerchapelharwich.com/events/the-mute-swans-band-rehearsal
 /
SUMMARY:The Mute Swans Band rehearsal
DESCRIPTION:\n\nThe Mute Swans practice come rain or shine
END:VEVENT
BEGIN:VEVENT
UID:15@ebenezerchapelharwich.com
DTSTART:20260211T180000Z
DTEND:20260211T190000Z
DTSTAMP:20260422T091314Z
URL:https://ebenezerchapelharwich.com/events/yoga/
SUMMARY:Yoga with Kate
DESCRIPTION:[caption id="attachment_1384" align="alignnone" width="300"] Yo
 ga sessions with Kate. Beginners welcome... Quiet space in which to explor
 e cosmic\, meditative and physical aspects of Yoga[/caption]\n\n£10 per p
 erson\n\n&nbsp\;
END:VEVENT
BEGIN:VEVENT
UID:96@ebenezerchapelharwich.com
DTSTART:20260215T090000Z
DTEND:20260215T100000Z
DTSTAMP:20260422T091314Z
URL:https://ebenezerchapelharwich.com/events/yoga-with-kate/
SUMMARY:Yoga with Kate
DESCRIPTION:[caption id="attachment_1384" align="alignnone" width="300"] Yo
 ga sessions with Kate. Beginners welcome[/caption]\n\nRelax\, Re energize\
 , quiet surroundings in which to meditate and practice Yoga stretches\n\n
 £10 per person
END:VEVENT
BEGIN:VEVENT
UID:251@ebenezerchapelharwich.com
DTSTART:20260217T190000Z
DTEND:20260217T210000Z
DTSTAMP:20260422T091314Z
URL:https://ebenezerchapelharwich.com/events/the-mute-swans-band-rehearsal
 /
SUMMARY:The Mute Swans Band rehearsal
DESCRIPTION:\n\nThe Mute Swans practice come rain or shine
END:VEVENT
BEGIN:VEVENT
UID:16@ebenezerchapelharwich.com
DTSTART:20260218T180000Z
DTEND:20260218T190000Z
DTSTAMP:20260422T091314Z
URL:https://ebenezerchapelharwich.com/events/yoga/
SUMMARY:Yoga with Kate
DESCRIPTION:[caption id="attachment_1384" align="alignnone" width="300"] Yo
 ga sessions with Kate. Beginners welcome... Quiet space in which to explor
 e cosmic\, meditative and physical aspects of Yoga[/caption]\n\n£10 per p
 erson\n\n&nbsp\;
END:VEVENT
BEGIN:VEVENT
UID:97@ebenezerchapelharwich.com
DTSTART:20260222T090000Z
DTEND:20260222T100000Z
DTSTAMP:20260422T091314Z
URL:https://ebenezerchapelharwich.com/events/yoga-with-kate/
SUMMARY:Yoga with Kate
DESCRIPTION:[caption id="attachment_1384" align="alignnone" width="300"] Yo
 ga sessions with Kate. Beginners welcome[/caption]\n\nRelax\, Re energize\
 , quiet surroundings in which to meditate and practice Yoga stretches\n\n
 £10 per person
END:VEVENT
BEGIN:VEVENT
UID:252@ebenezerchapelharwich.com
DTSTART:20260224T190000Z
DTEND:20260224T210000Z
DTSTAMP:20260422T091314Z
URL:https://ebenezerchapelharwich.com/events/the-mute-swans-band-rehearsal
 /
SUMMARY:The Mute Swans Band rehearsal
DESCRIPTION:\n\nThe Mute Swans practice come rain or shine
END:VEVENT
BEGIN:VEVENT
UID:17@ebenezerchapelharwich.com
DTSTART:20260225T180000Z
DTEND:20260225T190000Z
DTSTAMP:20260422T091314Z
URL:https://ebenezerchapelharwich.com/events/yoga/
SUMMARY:Yoga with Kate
DESCRIPTION:[caption id="attachment_1384" align="alignnone" width="300"] Yo
 ga sessions with Kate. Beginners welcome... Quiet space in which to explor
 e cosmic\, meditative and physical aspects of Yoga[/caption]\n\n£10 per p
 erson\n\n&nbsp\;
END:VEVENT
BEGIN:VEVENT
UID:98@ebenezerchapelharwich.com
DTSTART:20260301T090000Z
DTEND:20260301T100000Z
DTSTAMP:20260422T091314Z
URL:https://ebenezerchapelharwich.com/events/yoga-with-kate/
SUMMARY:Yoga with Kate
DESCRIPTION:[caption id="attachment_1384" align="alignnone" width="300"] Yo
 ga sessions with Kate. Beginners welcome[/caption]\n\nRelax\, Re energize\
 , quiet surroundings in which to meditate and practice Yoga stretches\n\n
 £10 per person
END:VEVENT
BEGIN:VEVENT
UID:253@ebenezerchapelharwich.com
DTSTART:20260303T190000Z
DTEND:20260303T210000Z
DTSTAMP:20260422T091314Z
URL:https://ebenezerchapelharwich.com/events/the-mute-swans-band-rehearsal
 /
SUMMARY:The Mute Swans Band rehearsal
DESCRIPTION:\n\nThe Mute Swans practice come rain or shine
END:VEVENT
BEGIN:VEVENT
UID:18@ebenezerchapelharwich.com
DTSTART:20260304T180000Z
DTEND:20260304T190000Z
DTSTAMP:20260422T091314Z
URL:https://ebenezerchapelharwich.com/events/yoga/
SUMMARY:Yoga with Kate
DESCRIPTION:[caption id="attachment_1384" align="alignnone" width="300"] Yo
 ga sessions with Kate. Beginners welcome... Quiet space in which to explor
 e cosmic\, meditative and physical aspects of Yoga[/caption]\n\n£10 per p
 erson\n\n&nbsp\;
END:VEVENT
END:VCALENDAR